BEGIN:VCALENDAR
VERSION:2.0
PRODID:-// - ECPv6.15.17.1//NONSGML v1.0//EN
CALSCALE:GREGORIAN
METHOD:PUBLISH
X-ORIGINAL-URL:https://stsff.com
X-WR-CALDESC:Events for 
REFRESH-INTERVAL;VALUE=DURATION:PT1H
X-Robots-Tag:noindex
X-PUBLISHED-TTL:PT1H
BEGIN:VTIMEZONE
TZID:America/Chicago
BEGIN:DAYLIGHT
TZOFFSETFROM:-0600
TZOFFSETTO:-0500
TZNAME:CDT
DTSTART:20250309T080000
END:DAYLIGHT
BEGIN:STANDARD
TZOFFSETFROM:-0500
TZOFFSETTO:-0600
TZNAME:CST
DTSTART:20251102T070000
END:STANDARD
BEGIN:DAYLIGHT
TZOFFSETFROM:-0600
TZOFFSETTO:-0500
TZNAME:CDT
DTSTART:20260308T080000
END:DAYLIGHT
BEGIN:STANDARD
TZOFFSETFROM:-0500
TZOFFSETTO:-0600
TZNAME:CST
DTSTART:20261101T070000
END:STANDARD
BEGIN:DAYLIGHT
TZOFFSETFROM:-0600
TZOFFSETTO:-0500
TZNAME:CDT
DTSTART:20270314T080000
END:DAYLIGHT
BEGIN:STANDARD
TZOFFSETFROM:-0500
TZOFFSETTO:-0600
TZNAME:CST
DTSTART:20271107T070000
END:STANDARD
END:VTIMEZONE
BEGIN:VEVENT
DTSTART;TZID=America/Chicago:20260111T130000
DTEND;TZID=America/Chicago:20260111T170000
DTSTAMP:20260421T140056
CREATED:20251231T034759Z
LAST-MODIFIED:20251231T034759Z
UID:10000015-1768136400-1768150800@stsff.com
SUMMARY:Paws for Insight: Spiritual Benefit Faire
DESCRIPTION:Join us for a unique fundraising experience hosted by St. Sophia’s Forgotten Felines! This special event brings together local spiritual and wellness practitioners for an afternoon of healing\, insight\, and connection—all while helping cats in need. \n\nWhat to Expect:\n✔ 15-minute mini-sessions including intuitive readings\, energy work\, and other metaphysical services\n✔ A cozy practitioner marketplace for browsing and shopping\n✔ The joy of knowing every session directly benefits our rescue cats
URL:https://stsff.com/event/paws-for-insight-spiritual-benefit-faire/
LOCATION:American Legion\, 570 S Gary Ave\, Carol Stream\, IL\, 60188
CATEGORIES:Fundraiser
ATTACH;FMTTYPE=image/png:https://stsff.com/wp-content/uploads/2025/12/Paws-for-insight-1920-x-1080-px-1.png
END:VEVENT
END:VCALENDAR