BEGIN:VCALENDAR
VERSION:2.0
PRODID:-// - ECPv6.15.17.1//NONSGML v1.0//EN
CALSCALE:GREGORIAN
METHOD:PUBLISH
X-ORIGINAL-URL:https://stsff.com
X-WR-CALDESC:Events for 
REFRESH-INTERVAL;VALUE=DURATION:PT1H
X-Robots-Tag:noindex
X-PUBLISHED-TTL:PT1H
BEGIN:VTIMEZONE
TZID:America/Chicago
BEGIN:DAYLIGHT
TZOFFSETFROM:-0600
TZOFFSETTO:-0500
TZNAME:CDT
DTSTART:20250309T080000
END:DAYLIGHT
BEGIN:STANDARD
TZOFFSETFROM:-0500
TZOFFSETTO:-0600
TZNAME:CST
DTSTART:20251102T070000
END:STANDARD
BEGIN:DAYLIGHT
TZOFFSETFROM:-0600
TZOFFSETTO:-0500
TZNAME:CDT
DTSTART:20260308T080000
END:DAYLIGHT
BEGIN:STANDARD
TZOFFSETFROM:-0500
TZOFFSETTO:-0600
TZNAME:CST
DTSTART:20261101T070000
END:STANDARD
BEGIN:DAYLIGHT
TZOFFSETFROM:-0600
TZOFFSETTO:-0500
TZNAME:CDT
DTSTART:20270314T080000
END:DAYLIGHT
BEGIN:STANDARD
TZOFFSETFROM:-0500
TZOFFSETTO:-0600
TZNAME:CST
DTSTART:20271107T070000
END:STANDARD
END:VTIMEZONE
BEGIN:VEVENT
DTSTART;TZID=America/Chicago:20260429T180000
DTEND;TZID=America/Chicago:20260429T210000
DTSTAMP:20260423T153004
CREATED:20251231T041208Z
LAST-MODIFIED:20260317T145618Z
UID:10000293-1777485600-1777496400@stsff.com
SUMMARY:Wednesday Open Hours
DESCRIPTION:Fill out your application ahead of time to be preapproved for a same-day adoption!
URL:https://stsff.com/event/wednesday-open-hours/2026-04-29/
LOCATION:St. Sophia’s Forgotten Felines\, 525 W. Roosevelt Road\, Wheaton\, IL\, 60187\, United States
CATEGORIES:Shelter Hours
ATTACH;FMTTYPE=image/png:https://stsff.com/wp-content/uploads/2025/12/Designer-4.png
END:VEVENT
BEGIN:VEVENT
DTSTART;TZID=America/Chicago:20260506T180000
DTEND;TZID=America/Chicago:20260506T210000
DTSTAMP:20260423T153004
CREATED:20251231T041208Z
LAST-MODIFIED:20260317T145618Z
UID:10000294-1778090400-1778101200@stsff.com
SUMMARY:Wednesday Open Hours
DESCRIPTION:Fill out your application ahead of time to be preapproved for a same-day adoption!
URL:https://stsff.com/event/wednesday-open-hours/2026-05-06/
LOCATION:St. Sophia’s Forgotten Felines\, 525 W. Roosevelt Road\, Wheaton\, IL\, 60187\, United States
CATEGORIES:Shelter Hours
ATTACH;FMTTYPE=image/png:https://stsff.com/wp-content/uploads/2025/12/Designer-4.png
END:VEVENT
BEGIN:VEVENT
DTSTART;TZID=America/Chicago:20260513T180000
DTEND;TZID=America/Chicago:20260513T210000
DTSTAMP:20260423T153004
CREATED:20251231T041208Z
LAST-MODIFIED:20260317T145618Z
UID:10000295-1778695200-1778706000@stsff.com
SUMMARY:Wednesday Open Hours
DESCRIPTION:Fill out your application ahead of time to be preapproved for a same-day adoption!
URL:https://stsff.com/event/wednesday-open-hours/2026-05-13/
LOCATION:St. Sophia’s Forgotten Felines\, 525 W. Roosevelt Road\, Wheaton\, IL\, 60187\, United States
CATEGORIES:Shelter Hours
ATTACH;FMTTYPE=image/png:https://stsff.com/wp-content/uploads/2025/12/Designer-4.png
END:VEVENT
BEGIN:VEVENT
DTSTART;TZID=America/Chicago:20260520T180000
DTEND;TZID=America/Chicago:20260520T210000
DTSTAMP:20260423T153004
CREATED:20251231T041208Z
LAST-MODIFIED:20260317T145618Z
UID:10000296-1779300000-1779310800@stsff.com
SUMMARY:Wednesday Open Hours
DESCRIPTION:Fill out your application ahead of time to be preapproved for a same-day adoption!
URL:https://stsff.com/event/wednesday-open-hours/2026-05-20/
LOCATION:St. Sophia’s Forgotten Felines\, 525 W. Roosevelt Road\, Wheaton\, IL\, 60187\, United States
CATEGORIES:Shelter Hours
ATTACH;FMTTYPE=image/png:https://stsff.com/wp-content/uploads/2025/12/Designer-4.png
END:VEVENT
BEGIN:VEVENT
DTSTART;TZID=America/Chicago:20260527T180000
DTEND;TZID=America/Chicago:20260527T210000
DTSTAMP:20260423T153004
CREATED:20251231T041208Z
LAST-MODIFIED:20260317T145618Z
UID:10000297-1779904800-1779915600@stsff.com
SUMMARY:Wednesday Open Hours
DESCRIPTION:Fill out your application ahead of time to be preapproved for a same-day adoption!
URL:https://stsff.com/event/wednesday-open-hours/2026-05-27/
LOCATION:St. Sophia’s Forgotten Felines\, 525 W. Roosevelt Road\, Wheaton\, IL\, 60187\, United States
CATEGORIES:Shelter Hours
ATTACH;FMTTYPE=image/png:https://stsff.com/wp-content/uploads/2025/12/Designer-4.png
END:VEVENT
BEGIN:VEVENT
DTSTART;TZID=America/Chicago:20260603T180000
DTEND;TZID=America/Chicago:20260603T210000
DTSTAMP:20260423T153004
CREATED:20251231T041208Z
LAST-MODIFIED:20260317T145618Z
UID:10000298-1780509600-1780520400@stsff.com
SUMMARY:Wednesday Open Hours
DESCRIPTION:Fill out your application ahead of time to be preapproved for a same-day adoption!
URL:https://stsff.com/event/wednesday-open-hours/2026-06-03/
LOCATION:St. Sophia’s Forgotten Felines\, 525 W. Roosevelt Road\, Wheaton\, IL\, 60187\, United States
CATEGORIES:Shelter Hours
ATTACH;FMTTYPE=image/png:https://stsff.com/wp-content/uploads/2025/12/Designer-4.png
END:VEVENT
BEGIN:VEVENT
DTSTART;TZID=America/Chicago:20260610T180000
DTEND;TZID=America/Chicago:20260610T210000
DTSTAMP:20260423T153004
CREATED:20251231T041208Z
LAST-MODIFIED:20260317T145618Z
UID:10000299-1781114400-1781125200@stsff.com
SUMMARY:Wednesday Open Hours
DESCRIPTION:Fill out your application ahead of time to be preapproved for a same-day adoption!
URL:https://stsff.com/event/wednesday-open-hours/2026-06-10/
LOCATION:St. Sophia’s Forgotten Felines\, 525 W. Roosevelt Road\, Wheaton\, IL\, 60187\, United States
CATEGORIES:Shelter Hours
ATTACH;FMTTYPE=image/png:https://stsff.com/wp-content/uploads/2025/12/Designer-4.png
END:VEVENT
BEGIN:VEVENT
DTSTART;TZID=America/Chicago:20260617T180000
DTEND;TZID=America/Chicago:20260617T210000
DTSTAMP:20260423T153004
CREATED:20251231T041208Z
LAST-MODIFIED:20260317T145618Z
UID:10000300-1781719200-1781730000@stsff.com
SUMMARY:Wednesday Open Hours
DESCRIPTION:Fill out your application ahead of time to be preapproved for a same-day adoption!
URL:https://stsff.com/event/wednesday-open-hours/2026-06-17/
LOCATION:St. Sophia’s Forgotten Felines\, 525 W. Roosevelt Road\, Wheaton\, IL\, 60187\, United States
CATEGORIES:Shelter Hours
ATTACH;FMTTYPE=image/png:https://stsff.com/wp-content/uploads/2025/12/Designer-4.png
END:VEVENT
BEGIN:VEVENT
DTSTART;TZID=America/Chicago:20260624T180000
DTEND;TZID=America/Chicago:20260624T210000
DTSTAMP:20260423T153004
CREATED:20251231T041208Z
LAST-MODIFIED:20260317T145618Z
UID:10000301-1782324000-1782334800@stsff.com
SUMMARY:Wednesday Open Hours
DESCRIPTION:Fill out your application ahead of time to be preapproved for a same-day adoption!
URL:https://stsff.com/event/wednesday-open-hours/2026-06-24/
LOCATION:St. Sophia’s Forgotten Felines\, 525 W. Roosevelt Road\, Wheaton\, IL\, 60187\, United States
CATEGORIES:Shelter Hours
ATTACH;FMTTYPE=image/png:https://stsff.com/wp-content/uploads/2025/12/Designer-4.png
END:VEVENT
BEGIN:VEVENT
DTSTART;TZID=America/Chicago:20260701T180000
DTEND;TZID=America/Chicago:20260701T210000
DTSTAMP:20260423T153004
CREATED:20251231T041208Z
LAST-MODIFIED:20260317T145618Z
UID:10000302-1782928800-1782939600@stsff.com
SUMMARY:Wednesday Open Hours
DESCRIPTION:Fill out your application ahead of time to be preapproved for a same-day adoption!
URL:https://stsff.com/event/wednesday-open-hours/2026-07-01/
LOCATION:St. Sophia’s Forgotten Felines\, 525 W. Roosevelt Road\, Wheaton\, IL\, 60187\, United States
CATEGORIES:Shelter Hours
ATTACH;FMTTYPE=image/png:https://stsff.com/wp-content/uploads/2025/12/Designer-4.png
END:VEVENT
BEGIN:VEVENT
DTSTART;TZID=America/Chicago:20260708T180000
DTEND;TZID=America/Chicago:20260708T210000
DTSTAMP:20260423T153004
CREATED:20251231T041208Z
LAST-MODIFIED:20260317T145618Z
UID:10000303-1783533600-1783544400@stsff.com
SUMMARY:Wednesday Open Hours
DESCRIPTION:Fill out your application ahead of time to be preapproved for a same-day adoption!
URL:https://stsff.com/event/wednesday-open-hours/2026-07-08/
LOCATION:St. Sophia’s Forgotten Felines\, 525 W. Roosevelt Road\, Wheaton\, IL\, 60187\, United States
CATEGORIES:Shelter Hours
ATTACH;FMTTYPE=image/png:https://stsff.com/wp-content/uploads/2025/12/Designer-4.png
END:VEVENT
BEGIN:VEVENT
DTSTART;TZID=America/Chicago:20260715T180000
DTEND;TZID=America/Chicago:20260715T210000
DTSTAMP:20260423T153004
CREATED:20251231T041208Z
LAST-MODIFIED:20260317T145618Z
UID:10000304-1784138400-1784149200@stsff.com
SUMMARY:Wednesday Open Hours
DESCRIPTION:Fill out your application ahead of time to be preapproved for a same-day adoption!
URL:https://stsff.com/event/wednesday-open-hours/2026-07-15/
LOCATION:St. Sophia’s Forgotten Felines\, 525 W. Roosevelt Road\, Wheaton\, IL\, 60187\, United States
CATEGORIES:Shelter Hours
ATTACH;FMTTYPE=image/png:https://stsff.com/wp-content/uploads/2025/12/Designer-4.png
END:VEVENT
BEGIN:VEVENT
DTSTART;TZID=America/Chicago:20260722T180000
DTEND;TZID=America/Chicago:20260722T210000
DTSTAMP:20260423T153004
CREATED:20251231T041208Z
LAST-MODIFIED:20260317T145618Z
UID:10000305-1784743200-1784754000@stsff.com
SUMMARY:Wednesday Open Hours
DESCRIPTION:Fill out your application ahead of time to be preapproved for a same-day adoption!
URL:https://stsff.com/event/wednesday-open-hours/2026-07-22/
LOCATION:St. Sophia’s Forgotten Felines\, 525 W. Roosevelt Road\, Wheaton\, IL\, 60187\, United States
CATEGORIES:Shelter Hours
ATTACH;FMTTYPE=image/png:https://stsff.com/wp-content/uploads/2025/12/Designer-4.png
END:VEVENT
BEGIN:VEVENT
DTSTART;TZID=America/Chicago:20260729T180000
DTEND;TZID=America/Chicago:20260729T210000
DTSTAMP:20260423T153004
CREATED:20251231T041208Z
LAST-MODIFIED:20260317T145618Z
UID:10000306-1785348000-1785358800@stsff.com
SUMMARY:Wednesday Open Hours
DESCRIPTION:Fill out your application ahead of time to be preapproved for a same-day adoption!
URL:https://stsff.com/event/wednesday-open-hours/2026-07-29/
LOCATION:St. Sophia’s Forgotten Felines\, 525 W. Roosevelt Road\, Wheaton\, IL\, 60187\, United States
CATEGORIES:Shelter Hours
ATTACH;FMTTYPE=image/png:https://stsff.com/wp-content/uploads/2025/12/Designer-4.png
END:VEVENT
BEGIN:VEVENT
DTSTART;TZID=America/Chicago:20260805T180000
DTEND;TZID=America/Chicago:20260805T210000
DTSTAMP:20260423T153004
CREATED:20251231T041208Z
LAST-MODIFIED:20260317T145618Z
UID:10000307-1785952800-1785963600@stsff.com
SUMMARY:Wednesday Open Hours
DESCRIPTION:Fill out your application ahead of time to be preapproved for a same-day adoption!
URL:https://stsff.com/event/wednesday-open-hours/2026-08-05/
LOCATION:St. Sophia’s Forgotten Felines\, 525 W. Roosevelt Road\, Wheaton\, IL\, 60187\, United States
CATEGORIES:Shelter Hours
ATTACH;FMTTYPE=image/png:https://stsff.com/wp-content/uploads/2025/12/Designer-4.png
END:VEVENT
BEGIN:VEVENT
DTSTART;TZID=America/Chicago:20260812T180000
DTEND;TZID=America/Chicago:20260812T210000
DTSTAMP:20260423T153004
CREATED:20251231T041208Z
LAST-MODIFIED:20260317T145618Z
UID:10000308-1786557600-1786568400@stsff.com
SUMMARY:Wednesday Open Hours
DESCRIPTION:Fill out your application ahead of time to be preapproved for a same-day adoption!
URL:https://stsff.com/event/wednesday-open-hours/2026-08-12/
LOCATION:St. Sophia’s Forgotten Felines\, 525 W. Roosevelt Road\, Wheaton\, IL\, 60187\, United States
CATEGORIES:Shelter Hours
ATTACH;FMTTYPE=image/png:https://stsff.com/wp-content/uploads/2025/12/Designer-4.png
END:VEVENT
BEGIN:VEVENT
DTSTART;TZID=America/Chicago:20260819T180000
DTEND;TZID=America/Chicago:20260819T210000
DTSTAMP:20260423T153004
CREATED:20251231T041208Z
LAST-MODIFIED:20260317T145618Z
UID:10000309-1787162400-1787173200@stsff.com
SUMMARY:Wednesday Open Hours
DESCRIPTION:Fill out your application ahead of time to be preapproved for a same-day adoption!
URL:https://stsff.com/event/wednesday-open-hours/2026-08-19/
LOCATION:St. Sophia’s Forgotten Felines\, 525 W. Roosevelt Road\, Wheaton\, IL\, 60187\, United States
CATEGORIES:Shelter Hours
ATTACH;FMTTYPE=image/png:https://stsff.com/wp-content/uploads/2025/12/Designer-4.png
END:VEVENT
BEGIN:VEVENT
DTSTART;TZID=America/Chicago:20260826T180000
DTEND;TZID=America/Chicago:20260826T210000
DTSTAMP:20260423T153004
CREATED:20251231T041208Z
LAST-MODIFIED:20260317T145618Z
UID:10000310-1787767200-1787778000@stsff.com
SUMMARY:Wednesday Open Hours
DESCRIPTION:Fill out your application ahead of time to be preapproved for a same-day adoption!
URL:https://stsff.com/event/wednesday-open-hours/2026-08-26/
LOCATION:St. Sophia’s Forgotten Felines\, 525 W. Roosevelt Road\, Wheaton\, IL\, 60187\, United States
CATEGORIES:Shelter Hours
ATTACH;FMTTYPE=image/png:https://stsff.com/wp-content/uploads/2025/12/Designer-4.png
END:VEVENT
BEGIN:VEVENT
DTSTART;TZID=America/Chicago:20260902T180000
DTEND;TZID=America/Chicago:20260902T210000
DTSTAMP:20260423T153004
CREATED:20251231T041208Z
LAST-MODIFIED:20260317T145618Z
UID:10000311-1788372000-1788382800@stsff.com
SUMMARY:Wednesday Open Hours
DESCRIPTION:Fill out your application ahead of time to be preapproved for a same-day adoption!
URL:https://stsff.com/event/wednesday-open-hours/2026-09-02/
LOCATION:St. Sophia’s Forgotten Felines\, 525 W. Roosevelt Road\, Wheaton\, IL\, 60187\, United States
CATEGORIES:Shelter Hours
ATTACH;FMTTYPE=image/png:https://stsff.com/wp-content/uploads/2025/12/Designer-4.png
END:VEVENT
BEGIN:VEVENT
DTSTART;TZID=America/Chicago:20260909T180000
DTEND;TZID=America/Chicago:20260909T210000
DTSTAMP:20260423T153004
CREATED:20251231T041208Z
LAST-MODIFIED:20260317T145618Z
UID:10000312-1788976800-1788987600@stsff.com
SUMMARY:Wednesday Open Hours
DESCRIPTION:Fill out your application ahead of time to be preapproved for a same-day adoption!
URL:https://stsff.com/event/wednesday-open-hours/2026-09-09/
LOCATION:St. Sophia’s Forgotten Felines\, 525 W. Roosevelt Road\, Wheaton\, IL\, 60187\, United States
CATEGORIES:Shelter Hours
ATTACH;FMTTYPE=image/png:https://stsff.com/wp-content/uploads/2025/12/Designer-4.png
END:VEVENT
BEGIN:VEVENT
DTSTART;TZID=America/Chicago:20260916T180000
DTEND;TZID=America/Chicago:20260916T210000
DTSTAMP:20260423T153004
CREATED:20251231T041208Z
LAST-MODIFIED:20260317T145618Z
UID:10000313-1789581600-1789592400@stsff.com
SUMMARY:Wednesday Open Hours
DESCRIPTION:Fill out your application ahead of time to be preapproved for a same-day adoption!
URL:https://stsff.com/event/wednesday-open-hours/2026-09-16/
LOCATION:St. Sophia’s Forgotten Felines\, 525 W. Roosevelt Road\, Wheaton\, IL\, 60187\, United States
CATEGORIES:Shelter Hours
ATTACH;FMTTYPE=image/png:https://stsff.com/wp-content/uploads/2025/12/Designer-4.png
END:VEVENT
BEGIN:VEVENT
DTSTART;TZID=America/Chicago:20260923T180000
DTEND;TZID=America/Chicago:20260923T210000
DTSTAMP:20260423T153004
CREATED:20251231T041208Z
LAST-MODIFIED:20260317T145618Z
UID:10000314-1790186400-1790197200@stsff.com
SUMMARY:Wednesday Open Hours
DESCRIPTION:Fill out your application ahead of time to be preapproved for a same-day adoption!
URL:https://stsff.com/event/wednesday-open-hours/2026-09-23/
LOCATION:St. Sophia’s Forgotten Felines\, 525 W. Roosevelt Road\, Wheaton\, IL\, 60187\, United States
CATEGORIES:Shelter Hours
ATTACH;FMTTYPE=image/png:https://stsff.com/wp-content/uploads/2025/12/Designer-4.png
END:VEVENT
BEGIN:VEVENT
DTSTART;TZID=America/Chicago:20260930T180000
DTEND;TZID=America/Chicago:20260930T210000
DTSTAMP:20260423T153004
CREATED:20251231T041208Z
LAST-MODIFIED:20260317T145618Z
UID:10000315-1790791200-1790802000@stsff.com
SUMMARY:Wednesday Open Hours
DESCRIPTION:Fill out your application ahead of time to be preapproved for a same-day adoption!
URL:https://stsff.com/event/wednesday-open-hours/2026-09-30/
LOCATION:St. Sophia’s Forgotten Felines\, 525 W. Roosevelt Road\, Wheaton\, IL\, 60187\, United States
CATEGORIES:Shelter Hours
ATTACH;FMTTYPE=image/png:https://stsff.com/wp-content/uploads/2025/12/Designer-4.png
END:VEVENT
BEGIN:VEVENT
DTSTART;TZID=America/Chicago:20261007T180000
DTEND;TZID=America/Chicago:20261007T210000
DTSTAMP:20260423T153004
CREATED:20251231T041208Z
LAST-MODIFIED:20260317T145618Z
UID:10000316-1791396000-1791406800@stsff.com
SUMMARY:Wednesday Open Hours
DESCRIPTION:Fill out your application ahead of time to be preapproved for a same-day adoption!
URL:https://stsff.com/event/wednesday-open-hours/2026-10-07/
LOCATION:St. Sophia’s Forgotten Felines\, 525 W. Roosevelt Road\, Wheaton\, IL\, 60187\, United States
CATEGORIES:Shelter Hours
ATTACH;FMTTYPE=image/png:https://stsff.com/wp-content/uploads/2025/12/Designer-4.png
END:VEVENT
BEGIN:VEVENT
DTSTART;TZID=America/Chicago:20261014T180000
DTEND;TZID=America/Chicago:20261014T210000
DTSTAMP:20260423T153004
CREATED:20251231T041208Z
LAST-MODIFIED:20260317T145618Z
UID:10000317-1792000800-1792011600@stsff.com
SUMMARY:Wednesday Open Hours
DESCRIPTION:Fill out your application ahead of time to be preapproved for a same-day adoption!
URL:https://stsff.com/event/wednesday-open-hours/2026-10-14/
LOCATION:St. Sophia’s Forgotten Felines\, 525 W. Roosevelt Road\, Wheaton\, IL\, 60187\, United States
CATEGORIES:Shelter Hours
ATTACH;FMTTYPE=image/png:https://stsff.com/wp-content/uploads/2025/12/Designer-4.png
END:VEVENT
BEGIN:VEVENT
DTSTART;TZID=America/Chicago:20261021T180000
DTEND;TZID=America/Chicago:20261021T210000
DTSTAMP:20260423T153004
CREATED:20251231T041208Z
LAST-MODIFIED:20260317T145618Z
UID:10000318-1792605600-1792616400@stsff.com
SUMMARY:Wednesday Open Hours
DESCRIPTION:Fill out your application ahead of time to be preapproved for a same-day adoption!
URL:https://stsff.com/event/wednesday-open-hours/2026-10-21/
LOCATION:St. Sophia’s Forgotten Felines\, 525 W. Roosevelt Road\, Wheaton\, IL\, 60187\, United States
CATEGORIES:Shelter Hours
ATTACH;FMTTYPE=image/png:https://stsff.com/wp-content/uploads/2025/12/Designer-4.png
END:VEVENT
BEGIN:VEVENT
DTSTART;TZID=America/Chicago:20261028T180000
DTEND;TZID=America/Chicago:20261028T210000
DTSTAMP:20260423T153004
CREATED:20251231T041208Z
LAST-MODIFIED:20260317T145618Z
UID:10000319-1793210400-1793221200@stsff.com
SUMMARY:Wednesday Open Hours
DESCRIPTION:Fill out your application ahead of time to be preapproved for a same-day adoption!
URL:https://stsff.com/event/wednesday-open-hours/2026-10-28/
LOCATION:St. Sophia’s Forgotten Felines\, 525 W. Roosevelt Road\, Wheaton\, IL\, 60187\, United States
CATEGORIES:Shelter Hours
ATTACH;FMTTYPE=image/png:https://stsff.com/wp-content/uploads/2025/12/Designer-4.png
END:VEVENT
BEGIN:VEVENT
DTSTART;TZID=America/Chicago:20261104T180000
DTEND;TZID=America/Chicago:20261104T210000
DTSTAMP:20260423T153004
CREATED:20251231T041208Z
LAST-MODIFIED:20260317T145618Z
UID:10000320-1793815200-1793826000@stsff.com
SUMMARY:Wednesday Open Hours
DESCRIPTION:Fill out your application ahead of time to be preapproved for a same-day adoption!
URL:https://stsff.com/event/wednesday-open-hours/2026-11-04/
LOCATION:St. Sophia’s Forgotten Felines\, 525 W. Roosevelt Road\, Wheaton\, IL\, 60187\, United States
CATEGORIES:Shelter Hours
ATTACH;FMTTYPE=image/png:https://stsff.com/wp-content/uploads/2025/12/Designer-4.png
END:VEVENT
BEGIN:VEVENT
DTSTART;TZID=America/Chicago:20261111T180000
DTEND;TZID=America/Chicago:20261111T210000
DTSTAMP:20260423T153004
CREATED:20251231T041208Z
LAST-MODIFIED:20260317T145618Z
UID:10000321-1794420000-1794430800@stsff.com
SUMMARY:Wednesday Open Hours
DESCRIPTION:Fill out your application ahead of time to be preapproved for a same-day adoption!
URL:https://stsff.com/event/wednesday-open-hours/2026-11-11/
LOCATION:St. Sophia’s Forgotten Felines\, 525 W. Roosevelt Road\, Wheaton\, IL\, 60187\, United States
CATEGORIES:Shelter Hours
ATTACH;FMTTYPE=image/png:https://stsff.com/wp-content/uploads/2025/12/Designer-4.png
END:VEVENT
BEGIN:VEVENT
DTSTART;TZID=America/Chicago:20261118T180000
DTEND;TZID=America/Chicago:20261118T210000
DTSTAMP:20260423T153004
CREATED:20251231T041208Z
LAST-MODIFIED:20260317T145618Z
UID:10000322-1795024800-1795035600@stsff.com
SUMMARY:Wednesday Open Hours
DESCRIPTION:Fill out your application ahead of time to be preapproved for a same-day adoption!
URL:https://stsff.com/event/wednesday-open-hours/2026-11-18/
LOCATION:St. Sophia’s Forgotten Felines\, 525 W. Roosevelt Road\, Wheaton\, IL\, 60187\, United States
CATEGORIES:Shelter Hours
ATTACH;FMTTYPE=image/png:https://stsff.com/wp-content/uploads/2025/12/Designer-4.png
END:VEVENT
END:VCALENDAR