BEGIN:VCALENDAR
VERSION:2.0
PRODID:-// - ECPv6.15.17.1//NONSGML v1.0//EN
CALSCALE:GREGORIAN
METHOD:PUBLISH
X-ORIGINAL-URL:https://stsff.com
X-WR-CALDESC:Events for 
REFRESH-INTERVAL;VALUE=DURATION:PT1H
X-Robots-Tag:noindex
X-PUBLISHED-TTL:PT1H
BEGIN:VTIMEZONE
TZID:America/Chicago
BEGIN:DAYLIGHT
TZOFFSETFROM:-0600
TZOFFSETTO:-0500
TZNAME:CDT
DTSTART:20250309T080000
END:DAYLIGHT
BEGIN:STANDARD
TZOFFSETFROM:-0500
TZOFFSETTO:-0600
TZNAME:CST
DTSTART:20251102T070000
END:STANDARD
BEGIN:DAYLIGHT
TZOFFSETFROM:-0600
TZOFFSETTO:-0500
TZNAME:CDT
DTSTART:20260308T080000
END:DAYLIGHT
BEGIN:STANDARD
TZOFFSETFROM:-0500
TZOFFSETTO:-0600
TZNAME:CST
DTSTART:20261101T070000
END:STANDARD
BEGIN:DAYLIGHT
TZOFFSETFROM:-0600
TZOFFSETTO:-0500
TZNAME:CDT
DTSTART:20270314T080000
END:DAYLIGHT
BEGIN:STANDARD
TZOFFSETFROM:-0500
TZOFFSETTO:-0600
TZNAME:CST
DTSTART:20271107T070000
END:STANDARD
END:VTIMEZONE
BEGIN:VEVENT
DTSTART;TZID=America/Chicago:20260425T120000
DTEND;TZID=America/Chicago:20260425T150000
DTSTAMP:20260423T170037
CREATED:20251231T040924Z
LAST-MODIFIED:20260410T215710Z
UID:10000032-1777118400-1777129200@stsff.com
SUMMARY:Saturday Open Hours
DESCRIPTION:Fill out your application ahead of time to be preapproved for a same-day adoption!
URL:https://stsff.com/event/saturday-open-hours/2026-04-25/
LOCATION:St. Sophia’s Forgotten Felines\, 525 W. Roosevelt Road\, Wheaton\, IL\, 60187\, United States
CATEGORIES:Shelter Hours
ATTACH;FMTTYPE=image/png:https://stsff.com/wp-content/uploads/2025/12/Designer-3.png
END:VEVENT
BEGIN:VEVENT
DTSTART;TZID=America/Chicago:20260502T120000
DTEND;TZID=America/Chicago:20260502T150000
DTSTAMP:20260423T170037
CREATED:20251231T040924Z
LAST-MODIFIED:20260410T215710Z
UID:10000033-1777723200-1777734000@stsff.com
SUMMARY:Saturday Open Hours
DESCRIPTION:Fill out your application ahead of time to be preapproved for a same-day adoption!
URL:https://stsff.com/event/saturday-open-hours/2026-05-02/
LOCATION:St. Sophia’s Forgotten Felines\, 525 W. Roosevelt Road\, Wheaton\, IL\, 60187\, United States
CATEGORIES:Shelter Hours
ATTACH;FMTTYPE=image/png:https://stsff.com/wp-content/uploads/2025/12/Designer-3.png
END:VEVENT
BEGIN:VEVENT
DTSTART;TZID=America/Chicago:20260509T120000
DTEND;TZID=America/Chicago:20260509T150000
DTSTAMP:20260423T170037
CREATED:20251231T040924Z
LAST-MODIFIED:20260410T215710Z
UID:10000034-1778328000-1778338800@stsff.com
SUMMARY:Saturday Open Hours
DESCRIPTION:Fill out your application ahead of time to be preapproved for a same-day adoption!
URL:https://stsff.com/event/saturday-open-hours/2026-05-09/
LOCATION:St. Sophia’s Forgotten Felines\, 525 W. Roosevelt Road\, Wheaton\, IL\, 60187\, United States
CATEGORIES:Shelter Hours
ATTACH;FMTTYPE=image/png:https://stsff.com/wp-content/uploads/2025/12/Designer-3.png
END:VEVENT
BEGIN:VEVENT
DTSTART;TZID=America/Chicago:20260516T120000
DTEND;TZID=America/Chicago:20260516T150000
DTSTAMP:20260423T170037
CREATED:20251231T040924Z
LAST-MODIFIED:20260410T215710Z
UID:10000035-1778932800-1778943600@stsff.com
SUMMARY:Saturday Open Hours
DESCRIPTION:Fill out your application ahead of time to be preapproved for a same-day adoption!
URL:https://stsff.com/event/saturday-open-hours/2026-05-16/
LOCATION:St. Sophia’s Forgotten Felines\, 525 W. Roosevelt Road\, Wheaton\, IL\, 60187\, United States
CATEGORIES:Shelter Hours
ATTACH;FMTTYPE=image/png:https://stsff.com/wp-content/uploads/2025/12/Designer-3.png
END:VEVENT
BEGIN:VEVENT
DTSTART;TZID=America/Chicago:20260523T120000
DTEND;TZID=America/Chicago:20260523T150000
DTSTAMP:20260423T170037
CREATED:20251231T040924Z
LAST-MODIFIED:20260410T215710Z
UID:10000036-1779537600-1779548400@stsff.com
SUMMARY:Saturday Open Hours
DESCRIPTION:Fill out your application ahead of time to be preapproved for a same-day adoption!
URL:https://stsff.com/event/saturday-open-hours/2026-05-23/
LOCATION:St. Sophia’s Forgotten Felines\, 525 W. Roosevelt Road\, Wheaton\, IL\, 60187\, United States
CATEGORIES:Shelter Hours
ATTACH;FMTTYPE=image/png:https://stsff.com/wp-content/uploads/2025/12/Designer-3.png
END:VEVENT
BEGIN:VEVENT
DTSTART;TZID=America/Chicago:20260530T120000
DTEND;TZID=America/Chicago:20260530T150000
DTSTAMP:20260423T170037
CREATED:20251231T040924Z
LAST-MODIFIED:20260410T215710Z
UID:10000037-1780142400-1780153200@stsff.com
SUMMARY:Saturday Open Hours
DESCRIPTION:Fill out your application ahead of time to be preapproved for a same-day adoption!
URL:https://stsff.com/event/saturday-open-hours/2026-05-30/
LOCATION:St. Sophia’s Forgotten Felines\, 525 W. Roosevelt Road\, Wheaton\, IL\, 60187\, United States
CATEGORIES:Shelter Hours
ATTACH;FMTTYPE=image/png:https://stsff.com/wp-content/uploads/2025/12/Designer-3.png
END:VEVENT
BEGIN:VEVENT
DTSTART;TZID=America/Chicago:20260606T120000
DTEND;TZID=America/Chicago:20260606T150000
DTSTAMP:20260423T170037
CREATED:20251231T040924Z
LAST-MODIFIED:20260410T215710Z
UID:10000038-1780747200-1780758000@stsff.com
SUMMARY:Saturday Open Hours
DESCRIPTION:Fill out your application ahead of time to be preapproved for a same-day adoption!
URL:https://stsff.com/event/saturday-open-hours/2026-06-06/
LOCATION:St. Sophia’s Forgotten Felines\, 525 W. Roosevelt Road\, Wheaton\, IL\, 60187\, United States
CATEGORIES:Shelter Hours
ATTACH;FMTTYPE=image/png:https://stsff.com/wp-content/uploads/2025/12/Designer-3.png
END:VEVENT
BEGIN:VEVENT
DTSTART;TZID=America/Chicago:20260613T120000
DTEND;TZID=America/Chicago:20260613T150000
DTSTAMP:20260423T170037
CREATED:20251231T040924Z
LAST-MODIFIED:20260410T215710Z
UID:10000039-1781352000-1781362800@stsff.com
SUMMARY:Saturday Open Hours
DESCRIPTION:Fill out your application ahead of time to be preapproved for a same-day adoption!
URL:https://stsff.com/event/saturday-open-hours/2026-06-13/
LOCATION:St. Sophia’s Forgotten Felines\, 525 W. Roosevelt Road\, Wheaton\, IL\, 60187\, United States
CATEGORIES:Shelter Hours
ATTACH;FMTTYPE=image/png:https://stsff.com/wp-content/uploads/2025/12/Designer-3.png
END:VEVENT
BEGIN:VEVENT
DTSTART;TZID=America/Chicago:20260620T120000
DTEND;TZID=America/Chicago:20260620T150000
DTSTAMP:20260423T170037
CREATED:20251231T040924Z
LAST-MODIFIED:20260410T215710Z
UID:10000040-1781956800-1781967600@stsff.com
SUMMARY:Saturday Open Hours
DESCRIPTION:Fill out your application ahead of time to be preapproved for a same-day adoption!
URL:https://stsff.com/event/saturday-open-hours/2026-06-20/
LOCATION:St. Sophia’s Forgotten Felines\, 525 W. Roosevelt Road\, Wheaton\, IL\, 60187\, United States
CATEGORIES:Shelter Hours
ATTACH;FMTTYPE=image/png:https://stsff.com/wp-content/uploads/2025/12/Designer-3.png
END:VEVENT
BEGIN:VEVENT
DTSTART;TZID=America/Chicago:20260627T120000
DTEND;TZID=America/Chicago:20260627T150000
DTSTAMP:20260423T170037
CREATED:20251231T040924Z
LAST-MODIFIED:20260410T215710Z
UID:10000041-1782561600-1782572400@stsff.com
SUMMARY:Saturday Open Hours
DESCRIPTION:Fill out your application ahead of time to be preapproved for a same-day adoption!
URL:https://stsff.com/event/saturday-open-hours/2026-06-27/
LOCATION:St. Sophia’s Forgotten Felines\, 525 W. Roosevelt Road\, Wheaton\, IL\, 60187\, United States
CATEGORIES:Shelter Hours
ATTACH;FMTTYPE=image/png:https://stsff.com/wp-content/uploads/2025/12/Designer-3.png
END:VEVENT
BEGIN:VEVENT
DTSTART;TZID=America/Chicago:20260704T120000
DTEND;TZID=America/Chicago:20260704T150000
DTSTAMP:20260423T170037
CREATED:20251231T040924Z
LAST-MODIFIED:20260410T215710Z
UID:10000042-1783166400-1783177200@stsff.com
SUMMARY:Saturday Open Hours
DESCRIPTION:Fill out your application ahead of time to be preapproved for a same-day adoption!
URL:https://stsff.com/event/saturday-open-hours/2026-07-04/
LOCATION:St. Sophia’s Forgotten Felines\, 525 W. Roosevelt Road\, Wheaton\, IL\, 60187\, United States
CATEGORIES:Shelter Hours
ATTACH;FMTTYPE=image/png:https://stsff.com/wp-content/uploads/2025/12/Designer-3.png
END:VEVENT
BEGIN:VEVENT
DTSTART;TZID=America/Chicago:20260711T120000
DTEND;TZID=America/Chicago:20260711T150000
DTSTAMP:20260423T170037
CREATED:20251231T040924Z
LAST-MODIFIED:20260410T215710Z
UID:10000043-1783771200-1783782000@stsff.com
SUMMARY:Saturday Open Hours
DESCRIPTION:Fill out your application ahead of time to be preapproved for a same-day adoption!
URL:https://stsff.com/event/saturday-open-hours/2026-07-11/
LOCATION:St. Sophia’s Forgotten Felines\, 525 W. Roosevelt Road\, Wheaton\, IL\, 60187\, United States
CATEGORIES:Shelter Hours
ATTACH;FMTTYPE=image/png:https://stsff.com/wp-content/uploads/2025/12/Designer-3.png
END:VEVENT
BEGIN:VEVENT
DTSTART;TZID=America/Chicago:20260718T120000
DTEND;TZID=America/Chicago:20260718T150000
DTSTAMP:20260423T170037
CREATED:20251231T040924Z
LAST-MODIFIED:20260410T215710Z
UID:10000044-1784376000-1784386800@stsff.com
SUMMARY:Saturday Open Hours
DESCRIPTION:Fill out your application ahead of time to be preapproved for a same-day adoption!
URL:https://stsff.com/event/saturday-open-hours/2026-07-18/
LOCATION:St. Sophia’s Forgotten Felines\, 525 W. Roosevelt Road\, Wheaton\, IL\, 60187\, United States
CATEGORIES:Shelter Hours
ATTACH;FMTTYPE=image/png:https://stsff.com/wp-content/uploads/2025/12/Designer-3.png
END:VEVENT
BEGIN:VEVENT
DTSTART;TZID=America/Chicago:20260725T120000
DTEND;TZID=America/Chicago:20260725T150000
DTSTAMP:20260423T170037
CREATED:20251231T040924Z
LAST-MODIFIED:20260410T215710Z
UID:10000045-1784980800-1784991600@stsff.com
SUMMARY:Saturday Open Hours
DESCRIPTION:Fill out your application ahead of time to be preapproved for a same-day adoption!
URL:https://stsff.com/event/saturday-open-hours/2026-07-25/
LOCATION:St. Sophia’s Forgotten Felines\, 525 W. Roosevelt Road\, Wheaton\, IL\, 60187\, United States
CATEGORIES:Shelter Hours
ATTACH;FMTTYPE=image/png:https://stsff.com/wp-content/uploads/2025/12/Designer-3.png
END:VEVENT
BEGIN:VEVENT
DTSTART;TZID=America/Chicago:20260801T120000
DTEND;TZID=America/Chicago:20260801T150000
DTSTAMP:20260423T170037
CREATED:20251231T040924Z
LAST-MODIFIED:20260410T215710Z
UID:10000046-1785585600-1785596400@stsff.com
SUMMARY:Saturday Open Hours
DESCRIPTION:Fill out your application ahead of time to be preapproved for a same-day adoption!
URL:https://stsff.com/event/saturday-open-hours/2026-08-01/
LOCATION:St. Sophia’s Forgotten Felines\, 525 W. Roosevelt Road\, Wheaton\, IL\, 60187\, United States
CATEGORIES:Shelter Hours
ATTACH;FMTTYPE=image/png:https://stsff.com/wp-content/uploads/2025/12/Designer-3.png
END:VEVENT
BEGIN:VEVENT
DTSTART;TZID=America/Chicago:20260808T120000
DTEND;TZID=America/Chicago:20260808T150000
DTSTAMP:20260423T170037
CREATED:20251231T040924Z
LAST-MODIFIED:20260410T215710Z
UID:10000047-1786190400-1786201200@stsff.com
SUMMARY:Saturday Open Hours
DESCRIPTION:Fill out your application ahead of time to be preapproved for a same-day adoption!
URL:https://stsff.com/event/saturday-open-hours/2026-08-08/
LOCATION:St. Sophia’s Forgotten Felines\, 525 W. Roosevelt Road\, Wheaton\, IL\, 60187\, United States
CATEGORIES:Shelter Hours
ATTACH;FMTTYPE=image/png:https://stsff.com/wp-content/uploads/2025/12/Designer-3.png
END:VEVENT
BEGIN:VEVENT
DTSTART;TZID=America/Chicago:20260815T120000
DTEND;TZID=America/Chicago:20260815T150000
DTSTAMP:20260423T170037
CREATED:20251231T040924Z
LAST-MODIFIED:20260410T215710Z
UID:10000048-1786795200-1786806000@stsff.com
SUMMARY:Saturday Open Hours
DESCRIPTION:Fill out your application ahead of time to be preapproved for a same-day adoption!
URL:https://stsff.com/event/saturday-open-hours/2026-08-15/
LOCATION:St. Sophia’s Forgotten Felines\, 525 W. Roosevelt Road\, Wheaton\, IL\, 60187\, United States
CATEGORIES:Shelter Hours
ATTACH;FMTTYPE=image/png:https://stsff.com/wp-content/uploads/2025/12/Designer-3.png
END:VEVENT
BEGIN:VEVENT
DTSTART;TZID=America/Chicago:20260822T120000
DTEND;TZID=America/Chicago:20260822T150000
DTSTAMP:20260423T170037
CREATED:20251231T040924Z
LAST-MODIFIED:20260410T215710Z
UID:10000049-1787400000-1787410800@stsff.com
SUMMARY:Saturday Open Hours
DESCRIPTION:Fill out your application ahead of time to be preapproved for a same-day adoption!
URL:https://stsff.com/event/saturday-open-hours/2026-08-22/
LOCATION:St. Sophia’s Forgotten Felines\, 525 W. Roosevelt Road\, Wheaton\, IL\, 60187\, United States
CATEGORIES:Shelter Hours
ATTACH;FMTTYPE=image/png:https://stsff.com/wp-content/uploads/2025/12/Designer-3.png
END:VEVENT
BEGIN:VEVENT
DTSTART;TZID=America/Chicago:20260829T120000
DTEND;TZID=America/Chicago:20260829T150000
DTSTAMP:20260423T170037
CREATED:20251231T040924Z
LAST-MODIFIED:20260410T215710Z
UID:10000050-1788004800-1788015600@stsff.com
SUMMARY:Saturday Open Hours
DESCRIPTION:Fill out your application ahead of time to be preapproved for a same-day adoption!
URL:https://stsff.com/event/saturday-open-hours/2026-08-29/
LOCATION:St. Sophia’s Forgotten Felines\, 525 W. Roosevelt Road\, Wheaton\, IL\, 60187\, United States
CATEGORIES:Shelter Hours
ATTACH;FMTTYPE=image/png:https://stsff.com/wp-content/uploads/2025/12/Designer-3.png
END:VEVENT
BEGIN:VEVENT
DTSTART;TZID=America/Chicago:20260905T120000
DTEND;TZID=America/Chicago:20260905T150000
DTSTAMP:20260423T170037
CREATED:20251231T040924Z
LAST-MODIFIED:20260410T215710Z
UID:10000051-1788609600-1788620400@stsff.com
SUMMARY:Saturday Open Hours
DESCRIPTION:Fill out your application ahead of time to be preapproved for a same-day adoption!
URL:https://stsff.com/event/saturday-open-hours/2026-09-05/
LOCATION:St. Sophia’s Forgotten Felines\, 525 W. Roosevelt Road\, Wheaton\, IL\, 60187\, United States
CATEGORIES:Shelter Hours
ATTACH;FMTTYPE=image/png:https://stsff.com/wp-content/uploads/2025/12/Designer-3.png
END:VEVENT
BEGIN:VEVENT
DTSTART;TZID=America/Chicago:20260912T120000
DTEND;TZID=America/Chicago:20260912T150000
DTSTAMP:20260423T170037
CREATED:20251231T040924Z
LAST-MODIFIED:20260410T215710Z
UID:10000052-1789214400-1789225200@stsff.com
SUMMARY:Saturday Open Hours
DESCRIPTION:Fill out your application ahead of time to be preapproved for a same-day adoption!
URL:https://stsff.com/event/saturday-open-hours/2026-09-12/
LOCATION:St. Sophia’s Forgotten Felines\, 525 W. Roosevelt Road\, Wheaton\, IL\, 60187\, United States
CATEGORIES:Shelter Hours
ATTACH;FMTTYPE=image/png:https://stsff.com/wp-content/uploads/2025/12/Designer-3.png
END:VEVENT
BEGIN:VEVENT
DTSTART;TZID=America/Chicago:20260919T120000
DTEND;TZID=America/Chicago:20260919T150000
DTSTAMP:20260423T170037
CREATED:20251231T040924Z
LAST-MODIFIED:20260410T215710Z
UID:10000053-1789819200-1789830000@stsff.com
SUMMARY:Saturday Open Hours
DESCRIPTION:Fill out your application ahead of time to be preapproved for a same-day adoption!
URL:https://stsff.com/event/saturday-open-hours/2026-09-19/
LOCATION:St. Sophia’s Forgotten Felines\, 525 W. Roosevelt Road\, Wheaton\, IL\, 60187\, United States
CATEGORIES:Shelter Hours
ATTACH;FMTTYPE=image/png:https://stsff.com/wp-content/uploads/2025/12/Designer-3.png
END:VEVENT
BEGIN:VEVENT
DTSTART;TZID=America/Chicago:20260926T120000
DTEND;TZID=America/Chicago:20260926T150000
DTSTAMP:20260423T170037
CREATED:20251231T040924Z
LAST-MODIFIED:20260410T215710Z
UID:10000054-1790424000-1790434800@stsff.com
SUMMARY:Saturday Open Hours
DESCRIPTION:Fill out your application ahead of time to be preapproved for a same-day adoption!
URL:https://stsff.com/event/saturday-open-hours/2026-09-26/
LOCATION:St. Sophia’s Forgotten Felines\, 525 W. Roosevelt Road\, Wheaton\, IL\, 60187\, United States
CATEGORIES:Shelter Hours
ATTACH;FMTTYPE=image/png:https://stsff.com/wp-content/uploads/2025/12/Designer-3.png
END:VEVENT
BEGIN:VEVENT
DTSTART;TZID=America/Chicago:20261003T120000
DTEND;TZID=America/Chicago:20261003T150000
DTSTAMP:20260423T170037
CREATED:20251231T040924Z
LAST-MODIFIED:20260410T215710Z
UID:10000055-1791028800-1791039600@stsff.com
SUMMARY:Saturday Open Hours
DESCRIPTION:Fill out your application ahead of time to be preapproved for a same-day adoption!
URL:https://stsff.com/event/saturday-open-hours/2026-10-03/
LOCATION:St. Sophia’s Forgotten Felines\, 525 W. Roosevelt Road\, Wheaton\, IL\, 60187\, United States
CATEGORIES:Shelter Hours
ATTACH;FMTTYPE=image/png:https://stsff.com/wp-content/uploads/2025/12/Designer-3.png
END:VEVENT
BEGIN:VEVENT
DTSTART;TZID=America/Chicago:20261010T120000
DTEND;TZID=America/Chicago:20261010T150000
DTSTAMP:20260423T170037
CREATED:20251231T040924Z
LAST-MODIFIED:20260410T215710Z
UID:10000056-1791633600-1791644400@stsff.com
SUMMARY:Saturday Open Hours
DESCRIPTION:Fill out your application ahead of time to be preapproved for a same-day adoption!
URL:https://stsff.com/event/saturday-open-hours/2026-10-10/
LOCATION:St. Sophia’s Forgotten Felines\, 525 W. Roosevelt Road\, Wheaton\, IL\, 60187\, United States
CATEGORIES:Shelter Hours
ATTACH;FMTTYPE=image/png:https://stsff.com/wp-content/uploads/2025/12/Designer-3.png
END:VEVENT
BEGIN:VEVENT
DTSTART;TZID=America/Chicago:20261017T120000
DTEND;TZID=America/Chicago:20261017T150000
DTSTAMP:20260423T170037
CREATED:20251231T040924Z
LAST-MODIFIED:20260410T215710Z
UID:10000057-1792238400-1792249200@stsff.com
SUMMARY:Saturday Open Hours
DESCRIPTION:Fill out your application ahead of time to be preapproved for a same-day adoption!
URL:https://stsff.com/event/saturday-open-hours/2026-10-17/
LOCATION:St. Sophia’s Forgotten Felines\, 525 W. Roosevelt Road\, Wheaton\, IL\, 60187\, United States
CATEGORIES:Shelter Hours
ATTACH;FMTTYPE=image/png:https://stsff.com/wp-content/uploads/2025/12/Designer-3.png
END:VEVENT
BEGIN:VEVENT
DTSTART;TZID=America/Chicago:20261024T120000
DTEND;TZID=America/Chicago:20261024T150000
DTSTAMP:20260423T170037
CREATED:20251231T040924Z
LAST-MODIFIED:20260410T215710Z
UID:10000058-1792843200-1792854000@stsff.com
SUMMARY:Saturday Open Hours
DESCRIPTION:Fill out your application ahead of time to be preapproved for a same-day adoption!
URL:https://stsff.com/event/saturday-open-hours/2026-10-24/
LOCATION:St. Sophia’s Forgotten Felines\, 525 W. Roosevelt Road\, Wheaton\, IL\, 60187\, United States
CATEGORIES:Shelter Hours
ATTACH;FMTTYPE=image/png:https://stsff.com/wp-content/uploads/2025/12/Designer-3.png
END:VEVENT
BEGIN:VEVENT
DTSTART;TZID=America/Chicago:20261031T120000
DTEND;TZID=America/Chicago:20261031T150000
DTSTAMP:20260423T170037
CREATED:20251231T040924Z
LAST-MODIFIED:20260410T215710Z
UID:10000059-1793448000-1793458800@stsff.com
SUMMARY:Saturday Open Hours
DESCRIPTION:Fill out your application ahead of time to be preapproved for a same-day adoption!
URL:https://stsff.com/event/saturday-open-hours/2026-10-31/
LOCATION:St. Sophia’s Forgotten Felines\, 525 W. Roosevelt Road\, Wheaton\, IL\, 60187\, United States
CATEGORIES:Shelter Hours
ATTACH;FMTTYPE=image/png:https://stsff.com/wp-content/uploads/2025/12/Designer-3.png
END:VEVENT
BEGIN:VEVENT
DTSTART;TZID=America/Chicago:20261107T120000
DTEND;TZID=America/Chicago:20261107T150000
DTSTAMP:20260423T170037
CREATED:20251231T040924Z
LAST-MODIFIED:20260410T215710Z
UID:10000060-1794052800-1794063600@stsff.com
SUMMARY:Saturday Open Hours
DESCRIPTION:Fill out your application ahead of time to be preapproved for a same-day adoption!
URL:https://stsff.com/event/saturday-open-hours/2026-11-07/
LOCATION:St. Sophia’s Forgotten Felines\, 525 W. Roosevelt Road\, Wheaton\, IL\, 60187\, United States
CATEGORIES:Shelter Hours
ATTACH;FMTTYPE=image/png:https://stsff.com/wp-content/uploads/2025/12/Designer-3.png
END:VEVENT
BEGIN:VEVENT
DTSTART;TZID=America/Chicago:20261114T120000
DTEND;TZID=America/Chicago:20261114T150000
DTSTAMP:20260423T170037
CREATED:20251231T040924Z
LAST-MODIFIED:20260410T215710Z
UID:10000061-1794657600-1794668400@stsff.com
SUMMARY:Saturday Open Hours
DESCRIPTION:Fill out your application ahead of time to be preapproved for a same-day adoption!
URL:https://stsff.com/event/saturday-open-hours/2026-11-14/
LOCATION:St. Sophia’s Forgotten Felines\, 525 W. Roosevelt Road\, Wheaton\, IL\, 60187\, United States
CATEGORIES:Shelter Hours
ATTACH;FMTTYPE=image/png:https://stsff.com/wp-content/uploads/2025/12/Designer-3.png
END:VEVENT
END:VCALENDAR