BEGIN:VCALENDAR
VERSION:2.0
PRODID:-// - ECPv6.15.17.1//NONSGML v1.0//EN
CALSCALE:GREGORIAN
METHOD:PUBLISH
X-ORIGINAL-URL:https://stsff.com
X-WR-CALDESC:Events for 
REFRESH-INTERVAL;VALUE=DURATION:PT1H
X-Robots-Tag:noindex
X-PUBLISHED-TTL:PT1H
BEGIN:VTIMEZONE
TZID:America/Chicago
BEGIN:DAYLIGHT
TZOFFSETFROM:-0600
TZOFFSETTO:-0500
TZNAME:CDT
DTSTART:20250309T080000
END:DAYLIGHT
BEGIN:STANDARD
TZOFFSETFROM:-0500
TZOFFSETTO:-0600
TZNAME:CST
DTSTART:20251102T070000
END:STANDARD
BEGIN:DAYLIGHT
TZOFFSETFROM:-0600
TZOFFSETTO:-0500
TZNAME:CDT
DTSTART:20260308T080000
END:DAYLIGHT
BEGIN:STANDARD
TZOFFSETFROM:-0500
TZOFFSETTO:-0600
TZNAME:CST
DTSTART:20261101T070000
END:STANDARD
BEGIN:DAYLIGHT
TZOFFSETFROM:-0600
TZOFFSETTO:-0500
TZNAME:CDT
DTSTART:20270314T080000
END:DAYLIGHT
BEGIN:STANDARD
TZOFFSETFROM:-0500
TZOFFSETTO:-0600
TZNAME:CST
DTSTART:20271107T070000
END:STANDARD
END:VTIMEZONE
BEGIN:VEVENT
DTSTART;TZID=America/Chicago:20260222T090000
DTEND;TZID=America/Chicago:20260222T160000
DTSTAMP:20260421T170838
CREATED:20260119T173410Z
LAST-MODIFIED:20260119T173410Z
UID:10000544-1771750800-1771776000@stsff.com
SUMMARY:Lincoln State Cat Club
DESCRIPTION:
URL:https://stsff.com/event/lincoln-state-cat-club/2026-02-22/
LOCATION:IL
ATTACH;FMTTYPE=image/png:https://stsff.com/wp-content/uploads/2026/01/ChatGPT-Image-Jan-19-2026-11_32_37-AM.png
END:VEVENT
BEGIN:VEVENT
DTSTART;TZID=America/Chicago:20260222T100000
DTEND;TZID=America/Chicago:20260222T130000
DTSTAMP:20260421T170838
CREATED:20260120T184842Z
LAST-MODIFIED:20260208T160700Z
UID:10000550-1771754400-1771765200@stsff.com
SUMMARY:Paint and Sip!
DESCRIPTION:Pawtraits for a Purpose: Paint & Sip\, a fundraiser supporting cats in transition\, hosted with Bottle & Bottega La Grange. Participants will paint a personalized portrait of their own pet during a guided\, step-by-step class while enjoying a relaxed BYOB atmosphere. \n📍 Bottle & Bottega\, 1 W Harris Ave\, La Grange\, IL 60525\n🎟️ $65 per participant \nGet tickets: https://www.paintingwithatwist.com/studio/la-grange/event/4127642/
URL:https://stsff.com/event/paint-and-sip/
LOCATION:Bottle & Bottega\, 1 W Harris Ave\, La Grange\, IL\, 60525\, United States
CATEGORIES:Fundraiser
ATTACH;FMTTYPE=image/png:https://stsff.com/wp-content/uploads/2026/01/Pawtraits-for-a-Purpose-Facebook-Event-Cover-Photo.png
END:VEVENT
END:VCALENDAR